BEGIN:VCALENDAR
VERSION:2.0
PRODID:-//CERN//INDICO//EN
BEGIN:VEVENT
SUMMARY:2026年紫金山暗物质研讨会
DTSTART:20260720T030000Z
DTEND:20260725T110000Z
DTSTAMP:20260423T194900Z
UID:indico-event-1142@indico.pmo.ac.cn
CONTACT:mulati@xju.edu.cn\;17799755710
DESCRIPTION:尊敬的各位同仁：\n       暗物质研究是当代
 基础科学的核心议题之一，探索暗物质本质将进一步深
 化我们对物质起源、物理规律及宇宙演化的认知。近年
 来，我国在暗物质研究领域取得了国际领先的成果：成
 功发射首颗暗物质科学卫星DAMPE，建成世界最深地下实验
 室——锦屏地下实验室，开展CDEX 和PandaX 直接探测实验
 ，利用FAST 射电望远镜研究暗物质属性，并在理论和暗物
 质探测领域涌现出一批突破性进展。为促进学科交叉、
 推动国内外合作，我们特举办紫金山暗物质研讨会。本
 系列研讨会由中国科学院暗物质与空间天文重点实验室20
 19 年发起，之后由南京师范大学在2023年、南京大学在2024
  年、烟台大学于2025 年陆续举办。现已成为国内暗物质
 领域推动粒子理论、实验物理与天文观测等学科交叉的
 重要学术交流平台。\n       为交流最新科研成果，我
 们将于2026年7月20日至25日在新疆乌鲁木齐举办2026年紫金
 山暗物质研讨会，诚邀本领域的实验和理论同行，共同
 探讨最新的暗物质探测结果、暗物质理论模型进展、新
 的暗物质探测方法、与暗物质相关的新物理研究进展，
 开展广泛而深入的学术讨论与思想碰撞，进一步促进理
 论物理与实验物理的融合，以期开启更多富有成效的科
 学合作，并取得更多有意义的研究成果。\n       让我
 们在盛夏时节，相约美丽乌鲁木齐，共探物理前沿！\n会
 议基本信息：\n会议地点：乌鲁木齐市明园新时代大酒店
 \n会议时间：2026年7月20日-25日（20日报到，21-24日会议，2
 5日离会）\n注册时间：截止日期为2026年5月31日。\n注册
 费用：研究人员及博士后：1800元/人，学生及其他人员：
 1500元/人\n食宿安排：本次会议统⼀安排住宿，会议期间
 交通费和⻝宿费⾃理。\n主办单位：紫金山天文台\n承办
 单位：新疆大学\n协办单位：南京师范大学、南京大学、
 烟台大学、国科大国际理论物理中心（亚太地区）\n会议
 组委会：\n范一中  紫金山天文台\n袁   强   紫金山天
 文台\n蔡岳霖  紫金山天文台\n武   雷  南京师范大学\n
 刘佐伟  南京大学\n祝   斌   烟台大学\n木拉提·阿不都
 艾尼   新疆大学\n地方组委会：吕国梁、木拉提·阿不都
 艾尼、李军、热依玛汗、热依木阿吉、尼加提\n会议联系
 人：木拉提·阿不都艾尼（17799755710、mulati@xju.edu.cn）、
 郭怀珂（15010328750、guohuaike@ucas.ac.cn）\n\nhttps://indico.pmo.ac
 .cn/event/1142/
URL:https://indico.pmo.ac.cn/event/1142/
END:VEVENT
END:VCALENDAR
