BEGIN:VCALENDAR
VERSION:2.0
PRODID:-//CERN//INDICO//EN
BEGIN:VEVENT
SUMMARY:宇宙线太阳系传播小型研讨会
DTSTART:20260420T060000Z
DTEND:20260423T040000Z
DTSTAMP:20260423T175900Z
UID:indico-event-1155@indico.pmo.ac.cn
DESCRIPTION:        太阳活动对行星际空间环境产生显著
 扰动，并进一步影响银河宇宙线的传播，对宇宙线流量
 带来调制效应。暗物质粒子探测卫星已运行超过十年时
 间，接近覆盖一个完整的太阳活动周。夸父一号卫星也
 在轨运行三年多时间，探测到大量的太阳活动事件。这
 些新的观测数据将有助于我们更好地理解太阳活动对行
 星际空间的影响以及宇宙线多时标太阳调制效应。\n    
     为更好地理解宇宙线太阳调制物理，拟于2026年4月20
 日至23日在安徽师范大学召开宇宙线太阳系传播小型研讨
 会，结合悟空号和夸父一号观测结果和理论研究深入探
 讨相关科学问题。\n \n会议基本信息：\n会议地点：安徽
 省芜湖市芜湖海螺国际大酒店\n会议时间：2026年4月20日-2
 3日（20日报到，21-22日会议，23日离会）\n主办单位：安
 徽师范大学物理与电子信息学院\n注册时间：截止日期为
 2026年4月17日。\n\nhttps://indico.pmo.ac.cn/event/1155/
URL:https://indico.pmo.ac.cn/event/1155/
END:VEVENT
END:VCALENDAR
